BEGIN:VCALENDAR
VERSION:2.0
PRODID:-//Ville de Bessières - ECPv6.14.2//NONSGML v1.0//EN
CALSCALE:GREGORIAN
METHOD:PUBLISH
X-WR-CALNAME:Ville de Bessières
X-ORIGINAL-URL:https://www.bessieres.fr
X-WR-CALDESC:Évènements pour Ville de Bessières
REFRESH-INTERVAL;VALUE=DURATION:PT1H
X-Robots-Tag:noindex
X-PUBLISHED-TTL:PT1H
BEGIN:VTIMEZONE
TZID:Europe/Paris
BEGIN:DAYLIGHT
TZOFFSETFROM:+0100
TZOFFSETTO:+0200
TZNAME:CEST
DTSTART:20230326T010000
END:DAYLIGHT
BEGIN:STANDARD
TZOFFSETFROM:+0200
TZOFFSETTO:+0100
TZNAME:CET
DTSTART:20231029T010000
END:STANDARD
END:VTIMEZONE
BEGIN:VEVENT
DTSTART;TZID=Europe/Paris:20231208T193000
DTEND;TZID=Europe/Paris:20231208T210000
DTSTAMP:20260423T025704
CREATED:20231130T120856Z
LAST-MODIFIED:20231130T120856Z
UID:20352-1702063800-1702069200@www.bessieres.fr
SUMMARY:BEURK ! CONTE AVEC MASQUE ET MARIONNETTE
DESCRIPTION:VENDREDI 08 DÉCEMBRE 19H30\nSALLE TICKY HOLGADO\n\nThéâtre jeunesse – À partir de 6 ans et aussi pour les grands\nDurée : 45 mn – Création 2023\n\nBEURK ! Un spectacle pour sensibiliser au respect du corps et au consentement. Avec poésie et légèreté\, BEURK ! pose délicatement des clés pour libérer la parole.\n« BEURK ! C’est l’histoire de Rosa\, une fillette rigolote.\nC’est l’histoire de Tata Yarô qui l’embrasse trop\, BEURK !\nAlors pour Rosa\, le silence s’installe.\nLes jours défilent sans goût\, sans couleur.\nHeureusement il y a Kalouche.\nHeureusement il y a le Maître.\nEt un jour\, c’en est fini de Tata Yarô et la vie circule à nouveau.\nC’est l’histoire d’une liberté retrouvée. »\nMise en scène : Anne Colin\nJeu : Mathilde Bardou et Aurore Lerat\n\nTarif 8€ et 6€ et billets suspendus\nRéservations : resaciedumorse@gmail.com – 07 84 66 58 80\nEspace Soleiha – Cinéma Ticky Holgado\nOuverture des portes 19h15 – spectacle à 19h30
URL:https://www.bessieres.fr/event/beurk-conte-avec-masque-et-marionnette/
LOCATION:Ticky Holgado\, 400 chemin de Balza\, Bessières\, 31660\, France
CATEGORIES:Spectacle
ATTACH;FMTTYPE=image/jpeg:https://www.bessieres.fr/wp-content/uploads/2023/11/beurk-spectacle-conte-musical.jpeg
END:VEVENT
END:VCALENDAR