BEGIN:VCALENDAR
VERSION:2.0
PRODID:-//Ville de Bessières - ECPv6.14.2//NONSGML v1.0//EN
CALSCALE:GREGORIAN
METHOD:PUBLISH
X-ORIGINAL-URL:https://www.bessieres.fr
X-WR-CALDESC:Évènements pour Ville de Bessières
REFRESH-INTERVAL;VALUE=DURATION:PT1H
X-Robots-Tag:noindex
X-PUBLISHED-TTL:PT1H
BEGIN:VTIMEZONE
TZID:Europe/Paris
BEGIN:DAYLIGHT
TZOFFSETFROM:+0100
TZOFFSETTO:+0200
TZNAME:CEST
DTSTART:20240331T010000
END:DAYLIGHT
BEGIN:STANDARD
TZOFFSETFROM:+0200
TZOFFSETTO:+0100
TZNAME:CET
DTSTART:20241027T010000
END:STANDARD
END:VTIMEZONE
BEGIN:VEVENT
DTSTART;TZID=Europe/Paris:20240301T193000
DTEND;TZID=Europe/Paris:20240301T213000
DTSTAMP:20260423T001523
CREATED:20240104T172647Z
LAST-MODIFIED:20240215T180300Z
UID:20756-1709321400-1709328600@www.bessieres.fr
SUMMARY:C. Loury raconte & chante Edith PIAF
DESCRIPTION:Vendredi 1er mars – 19h30 \nSalle Ticky Holgado \n  \nTarifs saison culturelle : 6€ adulte – 3\,50€ tarif réduit 
URL:https://www.bessieres.fr/event/c-loury-raconte-chante-edith-piaf/
LOCATION:Ticky Holgado\, 400 chemin de Balza\, Bessières\, 31660\, France
CATEGORIES:Spectacle
ATTACH;FMTTYPE=image/jpeg:https://www.bessieres.fr/wp-content/uploads/piaf-bessieres-loury.jpg
ORGANIZER;CN="Mairie de Bessi%C3%A8res":MAILTO:mairie@bessieres.fr
END:VEVENT
END:VCALENDAR