BEGIN:VCALENDAR
VERSION:2.0
PRODID:-//Ville de Bessières - ECPv6.14.2//NONSGML v1.0//EN
CALSCALE:GREGORIAN
METHOD:PUBLISH
X-ORIGINAL-URL:https://www.bessieres.fr
X-WR-CALDESC:Évènements pour Ville de Bessières
REFRESH-INTERVAL;VALUE=DURATION:PT1H
X-Robots-Tag:noindex
X-PUBLISHED-TTL:PT1H
BEGIN:VTIMEZONE
TZID:Europe/Paris
BEGIN:DAYLIGHT
TZOFFSETFROM:+0100
TZOFFSETTO:+0200
TZNAME:CEST
DTSTART:20240331T010000
END:DAYLIGHT
BEGIN:STANDARD
TZOFFSETFROM:+0200
TZOFFSETTO:+0100
TZNAME:CET
DTSTART:20241027T010000
END:STANDARD
END:VTIMEZONE
BEGIN:VEVENT
DTSTART;TZID=Europe/Paris:20241018T203000
DTEND;TZID=Europe/Paris:20241018T220000
DTSTAMP:20260422T134904
CREATED:20240904T141012Z
LAST-MODIFIED:20240916T071050Z
UID:22157-1729283400-1729288800@www.bessieres.fr
SUMMARY:THÉÂTRE | LES BELLES SOEURS
DESCRIPTION:VENDREDI 18 OCTOBRE 2024 – 20H30 – SALLE TICKY HOLGADO \n  \n \n  \n« Francky invite dans sa nouvelle maison de campagne ses deux frères et ses belles-sœurs. Qu’est-ce qu’une belle-soeur ? Une pièce rapportée qui doit trouver sa place dans une tribu. Là\, elles sont trois et aucune ne ressemble à l’autre. Et puis\, il y a le grain de sable qui va faire exploser les non-dits\, les fantasmes\, les mensonges\, les faux-semblants et les couples…. C’est Talia\, la ravissante secrétaire de Francky\, que les deux autres frères ont très bien connue\, elle est aussi invitée. C’est aussitôt la panique chez les hommes et la suspicion chez les femmes. \n\n\n\n\n\n\n\nUne comédie familiale où mensonges\, rivalités et adultères nous rappellent que les hommes sont (en général) plutôt lâches\, et les femmes (souvent) impitoyables !   \n\n\n\nTarifs saison culturelle : \nTarif plein : 6€ \nTarif réduit : 3\,50€ (étudiants\, moins de 16 ans\, demandeurs d’emploi\, personnes percevant le RSA\, titulaires d’une carte d’invalidité)
URL:https://www.bessieres.fr/event/theatre-les-belles-soeurs/
LOCATION:Ticky Holgado\, 400 chemin de Balza\, Bessières\, 31660\, France
CATEGORIES:Spectacle
ATTACH;FMTTYPE=image/jpeg:https://www.bessieres.fr/wp-content/uploads/les-belles-soeurs-bessieres-3.jpg
ORGANIZER;CN="Mairie de Bessi%C3%A8res":MAILTO:mairie@bessieres.fr
END:VEVENT
END:VCALENDAR