BEGIN:VCALENDAR
VERSION:2.0
PRODID:-//Ville de Bessières - ECPv6.14.2//NONSGML v1.0//EN
CALSCALE:GREGORIAN
METHOD:PUBLISH
X-WR-CALNAME:Ville de Bessières
X-ORIGINAL-URL:https://www.bessieres.fr
X-WR-CALDESC:Évènements pour Ville de Bessières
REFRESH-INTERVAL;VALUE=DURATION:PT1H
X-Robots-Tag:noindex
X-PUBLISHED-TTL:PT1H
BEGIN:VTIMEZONE
TZID:Europe/Paris
BEGIN:DAYLIGHT
TZOFFSETFROM:+0100
TZOFFSETTO:+0200
TZNAME:CEST
DTSTART:20240331T010000
END:DAYLIGHT
BEGIN:STANDARD
TZOFFSETFROM:+0200
TZOFFSETTO:+0100
TZNAME:CET
DTSTART:20241027T010000
END:STANDARD
END:VTIMEZONE
BEGIN:VEVENT
DTSTART;TZID=Europe/Paris:20241122T203000
DTEND;TZID=Europe/Paris:20241122T220000
DTSTAMP:20260422T121522
CREATED:20240905T082451Z
LAST-MODIFIED:20240905T145338Z
UID:22176-1732307400-1732312800@www.bessieres.fr
SUMMARY:THÉÂTRE | LES ACTEURS SONT FATIGUÉS
DESCRIPTION:VENDREDI 22 NOVEMBRE 2024 – 20H30 – SALLE TICKY HOLGADO \n  \n \nSYNOPSIS\n\nUn véritable petit bijou d’écriture aux répliques finement ciselées.\nPour fêter son premier rôle au cinéma\, Marianne et son mari Norbert\, agent immobilier\, convient quelques amis dans leur maison de campagne. Loin de la gloire et des paillettes\, le barbecue va virer au cauchemar puisque jalousies et hypocrisies vont s’inviter dans cette guerre d’egos surdimensionnés. \nEntre coups bas et règlements de comptes\, leur amitié va être mise à rude épreuve. Le public se délecte de ces joutes verbales incisives. \nCette comédie irrésistible nous amène à découvrir l’envers du décor de la vie de comédien.\nC’est une satire du monde des artistes qui dresse un portrait sans concession de l’univers impitoyable du spectacle. \nUne pièce drôle à souhait\, qui dépeint une situation banale au départ\, qui va dégénérer et mettre en exergue la nature humaine dans ce qu’elle a de pire !\nDurée 1h30 – à partir de 10 ans \n\n\n  \n\n\n\nTarifs saison culturelle : \nTarif plein : 6€ \nTarif réduit : 3\,50€ (étudiants\, moins de 16 ans\, demandeurs d’emploi\, personnes percevant le RSA\, titulaires d’une carte d’invalidité)
URL:https://www.bessieres.fr/event/theatre-les-acteurs-sont-fatigues/
LOCATION:Ticky Holgado\, 400 chemin de Balza\, Bessières\, 31660\, France
CATEGORIES:Spectacle
ATTACH;FMTTYPE=image/jpeg:https://www.bessieres.fr/wp-content/uploads/theatre-les-acteurs-sont-fatigues-3.jpg
ORGANIZER;CN="Mairie de Bessi%C3%A8res":MAILTO:mairie@bessieres.fr
END:VEVENT
END:VCALENDAR