BEGIN:VCALENDAR
VERSION:2.0
PRODID:-//Ville de Bessières - ECPv6.14.2//NONSGML v1.0//EN
CALSCALE:GREGORIAN
METHOD:PUBLISH
X-WR-CALNAME:Ville de Bessières
X-ORIGINAL-URL:https://www.bessieres.fr
X-WR-CALDESC:Évènements pour Ville de Bessières
REFRESH-INTERVAL;VALUE=DURATION:PT1H
X-Robots-Tag:noindex
X-PUBLISHED-TTL:PT1H
BEGIN:VTIMEZONE
TZID:Europe/Paris
BEGIN:DAYLIGHT
TZOFFSETFROM:+0100
TZOFFSETTO:+0200
TZNAME:CEST
DTSTART:20240331T010000
END:DAYLIGHT
BEGIN:STANDARD
TZOFFSETFROM:+0200
TZOFFSETTO:+0100
TZNAME:CET
DTSTART:20241027T010000
END:STANDARD
END:VTIMEZONE
BEGIN:VEVENT
DTSTART;TZID=Europe/Paris:20241213T183000
DTEND;TZID=Europe/Paris:20241213T193000
DTSTAMP:20260422T105210
CREATED:20241126T152108Z
LAST-MODIFIED:20241126T152214Z
UID:22820-1734114600-1734118200@www.bessieres.fr
SUMMARY:SPECTACLE JEUNE PUBLIC |  LE VOYAGEUR DU TEMPS
DESCRIPTION:VENDREDI 13 DECEMBRE – SALLE TICKY HOLGADO – 18H30 \nUn spectacle raconté et participatif en solo de clown dans un univers drôle\, tendre et poétique. \ndurée 55 minutes dès 4 ans \n  \n \n  \nTarifs saison culturelle : \nTarif plein : 6€ \nTarif réduit : 3\,50€ (étudiants\, moins de 16 ans\, demandeurs d’emploi\, personnes percevant le RSA\, titulaires d’une carte d’invalidité)
URL:https://www.bessieres.fr/event/spectacle-jeune-public-le-voyageur-du-temps/
LOCATION:Ticky Holgado\, 400 chemin de Balza\, Bessières\, 31660\, France
CATEGORIES:Spectacle
ATTACH;FMTTYPE=image/jpeg:https://www.bessieres.fr/wp-content/uploads/spectacle-noel-le-voyageur-du-temps.jpg
ORGANIZER;CN="Mairie de Bessi%C3%A8res":MAILTO:mairie@bessieres.fr
END:VEVENT
END:VCALENDAR