BEGIN:VCALENDAR
VERSION:2.0
PRODID:-//Ville de Bessières - ECPv6.14.2//NONSGML v1.0//EN
CALSCALE:GREGORIAN
METHOD:PUBLISH
X-ORIGINAL-URL:https://www.bessieres.fr
X-WR-CALDESC:Évènements pour Ville de Bessières
REFRESH-INTERVAL;VALUE=DURATION:PT1H
X-Robots-Tag:noindex
X-PUBLISHED-TTL:PT1H
BEGIN:VTIMEZONE
TZID:Europe/Paris
BEGIN:DAYLIGHT
TZOFFSETFROM:+0100
TZOFFSETTO:+0200
TZNAME:CEST
DTSTART:20240331T010000
END:DAYLIGHT
BEGIN:STANDARD
TZOFFSETFROM:+0200
TZOFFSETTO:+0100
TZNAME:CET
DTSTART:20241027T010000
END:STANDARD
END:VTIMEZONE
BEGIN:VEVENT
DTSTART;TZID=Europe/Paris:20241215T170000
DTEND;TZID=Europe/Paris:20241215T183000
DTSTAMP:20260422T105854
CREATED:20241112T110335Z
LAST-MODIFIED:20241112T110335Z
UID:22661-1734282000-1734287400@www.bessieres.fr
SUMMARY:CONCERT POUR NOËL | AU CHŒUR DE BESSIÈRES
DESCRIPTION:DIMANCHE 15 DECEMBRE 2024 – 17H00 – EGLISE SAINT JEAN BAPTISTE \nEntrée libre
URL:https://www.bessieres.fr/event/concert-pour-noel-au-choeur-de-bessieres/
LOCATION:Eglise Saint Jean Baptiste\, Place du Souvenir\, Bessières\, 31660\, France
CATEGORIES:Spectacle
ATTACH;FMTTYPE=image/jpeg:https://www.bessieres.fr/wp-content/uploads/Affiche-Noel-A4-31oct24.jpg
END:VEVENT
END:VCALENDAR