BEGIN:VCALENDAR
VERSION:2.0
PRODID:-//Ville de Bessières - ECPv6.14.2//NONSGML v1.0//EN
CALSCALE:GREGORIAN
METHOD:PUBLISH
X-ORIGINAL-URL:https://www.bessieres.fr
X-WR-CALDESC:Évènements pour Ville de Bessières
REFRESH-INTERVAL;VALUE=DURATION:PT1H
X-Robots-Tag:noindex
X-PUBLISHED-TTL:PT1H
BEGIN:VTIMEZONE
TZID:Europe/Paris
BEGIN:DAYLIGHT
TZOFFSETFROM:+0100
TZOFFSETTO:+0200
TZNAME:CEST
DTSTART:20250330T010000
END:DAYLIGHT
BEGIN:STANDARD
TZOFFSETFROM:+0200
TZOFFSETTO:+0100
TZNAME:CET
DTSTART:20251026T010000
END:STANDARD
END:VTIMEZONE
BEGIN:VEVENT
DTSTART;TZID=Europe/Paris:20250314T203000
DTEND;TZID=Europe/Paris:20250314T220000
DTSTAMP:20260422T064619
CREATED:20241112T090658Z
LAST-MODIFIED:20250306T113409Z
UID:22655-1741984200-1741989600@www.bessieres.fr
SUMMARY:SPECTACLE DES JEUNES TALENTS : LE PRINTEMPS DU RIRE
DESCRIPTION:La Tournée des Jeunes Talents en partenariat avec le Printemps du Rire\nLa tournée du Printemps\, une scène immense : la Haute-Garonne ! Une tournée digne des stars pour découvrir les étoiles du rire de demain. \nLe Festival le Printemps du Rire met en place chaque année « Le Tremplin du Printemps ». C’est une année de recherches\, des kilomètres parcourus\, des centaines de jeunes artistes rencontrés qui veulent faire de l’humour leur sacerdoce… \n\nVENDREDI 14 MARS 2025 \n20H30 – durée 1h45 \nSALLE TICKY HOLGADO \nTarif : 10€ I 5€ \nAdultes – ados \nà partir de 12 ans \n  \n\nTarifs  : \nTarif plein : 10€ \nTarif réduit : 5€ (étudiants\, moins de 16 ans\, demandeurs d’emploi\, personnes percevant le RSA\, titulaires d’une carte d’invalidité)
URL:https://www.bessieres.fr/event/theatre-spectacle-des-jeunes-talents-le-printemps-du-rire/
LOCATION:Ticky Holgado\, 400 chemin de Balza\, Bessières\, 31660\, France
CATEGORIES:Spectacle
ATTACH;FMTTYPE=image/jpeg:https://www.bessieres.fr/wp-content/uploads/Carre-Tournee-2-Bessieres-1.jpg
ORGANIZER;CN="Mairie de Bessi%C3%A8res":MAILTO:mairie@bessieres.fr
END:VEVENT
END:VCALENDAR