BEGIN:VCALENDAR
VERSION:2.0
PRODID:-//Ville de Bessières - ECPv6.14.2//NONSGML v1.0//EN
CALSCALE:GREGORIAN
METHOD:PUBLISH
X-WR-CALNAME:Ville de Bessières
X-ORIGINAL-URL:https://www.bessieres.fr
X-WR-CALDESC:Évènements pour Ville de Bessières
REFRESH-INTERVAL;VALUE=DURATION:PT1H
X-Robots-Tag:noindex
X-PUBLISHED-TTL:PT1H
BEGIN:VTIMEZONE
TZID:Europe/Paris
BEGIN:DAYLIGHT
TZOFFSETFROM:+0100
TZOFFSETTO:+0200
TZNAME:CEST
DTSTART:20250330T010000
END:DAYLIGHT
BEGIN:STANDARD
TZOFFSETFROM:+0200
TZOFFSETTO:+0100
TZNAME:CET
DTSTART:20251026T010000
END:STANDARD
END:VTIMEZONE
BEGIN:VEVENT
DTSTART;TZID=Europe/Paris:20250606T203000
DTEND;TZID=Europe/Paris:20250606T220000
DTSTAMP:20260422T024302
CREATED:20241120T142927Z
LAST-MODIFIED:20241120T143159Z
UID:22761-1749241800-1749247200@www.bessieres.fr
SUMMARY:CONCERT FOLK FLORALE | MÉLYS
DESCRIPTION:VENDREDI 06 JUIN 2025 – 20H30 – SALLE TICKY HOLGADO \n  \n \n  \n\n\n\n“Mélodies de mirages ; musique de corps et de naufrages. \nAprès un premier EP Agua\, plutôt organique et acoustique\, le deuxième EP de Mélys For Once est sorti le 26 avril teinté de couleurs Indie-Folk\, tirant même parfois vers des sonorités rock. Naviguant entre l’anglais et l’espagnol\, sa voix douce et rauque à la fois nous emmène vers ces moments précieux où l’esprit divague et se laisse porter par la mélancolie. Mélys qualifie sa musique de Folk Florale\, un écrin musical où la chanteuse-guitariste-compositrice Mélys puise son texte dans les émotions et les sensations que le monde organique lui fait ressentir.” \n\n\n\n\n\nTarifs saison culturelle : \nTarif plein : 6€ \nTarif réduit : 3\,50€ (étudiants\, moins de 16 ans\, demandeurs d’emploi\, personnes percevant le RSA\, titulaires d’une carte d’invalidité)
URL:https://www.bessieres.fr/event/concert-folk-florale-melys/
LOCATION:Ticky Holgado\, 400 chemin de Balza\, Bessières\, 31660\, France
CATEGORIES:Spectacle
ATTACH;FMTTYPE=image/jpeg:https://www.bessieres.fr/wp-content/uploads/affiche-concert-melys-2.jpg
ORGANIZER;CN="Mairie de Bessi%C3%A8res":MAILTO:mairie@bessieres.fr
END:VEVENT
BEGIN:VEVENT
DTSTART;TZID=Europe/Paris:20250606T203000
DTEND;TZID=Europe/Paris:20250606T220000
DTSTAMP:20260422T024302
CREATED:20250306T113947Z
LAST-MODIFIED:20250306T114352Z
UID:23125-1749241800-1749247200@www.bessieres.fr
SUMMARY:Spectacle Mélys
DESCRIPTION:Mélodies de mirages ; musique de corps et de naufrages.\nAprès un premier EP Agua\, plutôt organique et acoustique\, le deuxième EP de Mélys For Once est sorti le 26 avril teinté de couleurs Indie-Folk\, tirant même parfois vers des sonorités rock. \nNaviguant entre l’anglais et l’espagnol\, sa voix douce et rauque à la fois nous emmène vers ces moments précieux où l’esprit divague et se laisse porter par la mélancolie. Mélys qualifie sa musique de Folk Florale\, un écrin musical où la chanteuse-guitariste-compositrice Mélys puise son texte dans les émotions et les sensations que le monde organique lui fait ressentir. \n  \nVENDREDI 6 JUIN 2025 \n20H30 – durée 1h45 \nSALLE TICKY HOLGADO \nTarif : 6€ I 3\,5€ \nTout public \n  \nInformations et réservations en Mairie :  \n29 place du Souvenir \n05 61 84 55 55 \nmairie@bessieres.fr
URL:https://www.bessieres.fr/event/spectacle-melys/
LOCATION:Ticky Holgado\, 400 chemin de Balza\, Bessières\, 31660\, France
CATEGORIES:Spectacle
ORGANIZER;CN="Mairie de Bessi%C3%A8res":MAILTO:mairie@bessieres.fr
END:VEVENT
END:VCALENDAR